BEGIN:VCALENDAR
VERSION:2.0
PRODID:-//Rollerize Shop - ECPv6.15.13//NONSGML v1.0//EN
CALSCALE:GREGORIAN
METHOD:PUBLISH
X-WR-CALNAME:Rollerize Shop
X-ORIGINAL-URL:https://shop.rollerize.co.uk
X-WR-CALDESC:Events for Rollerize Shop
REFRESH-INTERVAL;VALUE=DURATION:PT1H
X-Robots-Tag:noindex
X-PUBLISHED-TTL:PT1H
BEGIN:VTIMEZONE
TZID:Europe/London
BEGIN:DAYLIGHT
TZOFFSETFROM:+0000
TZOFFSETTO:+0100
TZNAME:BST
DTSTART:20240331T010000
END:DAYLIGHT
BEGIN:STANDARD
TZOFFSETFROM:+0100
TZOFFSETTO:+0000
TZNAME:GMT
DTSTART:20241027T010000
END:STANDARD
BEGIN:DAYLIGHT
TZOFFSETFROM:+0000
TZOFFSETTO:+0100
TZNAME:BST
DTSTART:20250330T010000
END:DAYLIGHT
BEGIN:STANDARD
TZOFFSETFROM:+0100
TZOFFSETTO:+0000
TZNAME:GMT
DTSTART:20251026T010000
END:STANDARD
BEGIN:DAYLIGHT
TZOFFSETFROM:+0000
TZOFFSETTO:+0100
TZNAME:BST
DTSTART:20260329T010000
END:DAYLIGHT
BEGIN:STANDARD
TZOFFSETFROM:+0100
TZOFFSETTO:+0000
TZNAME:GMT
DTSTART:20261025T010000
END:STANDARD
END:VTIMEZONE
BEGIN:VEVENT
DTSTART;TZID=Europe/London:20251220T130000
DTEND;TZID=Europe/London:20251220T143000
DTSTAMP:20260420T124140
CREATED:20251113T110409Z
LAST-MODIFIED:20251222T111128Z
UID:1074-1766235600-1766241000@shop.rollerize.co.uk
SUMMARY:Xmas Roller Disco Session 1
DESCRIPTION:Celebrate the most wonderful time of the year on wheels at our Christmas Roller Disco! Enjoy a fun-filled festive skating experience with great music\, dazzling lights\, and plenty of holiday cheer. \nCome dressed in your best Christmas jumper or festive outfit and skate along to all your favourite seasonal hits. Perfect for families\, friends\, and skaters of all ages.
URL:https://shop.rollerize.co.uk/event/xmas-roller-disco-session-1/
LOCATION:Hazlemere Youth Centre\, Hazlemere Youth Centre\, High Wycombe\, Buckinghamshire\, HP15 7UB\, United Kingdom
CATEGORIES:December 2025,Public Roller Disco
ATTACH;FMTTYPE=image/jpeg:https://shop.rollerize.co.uk/wp-content/uploads/2025/11/Xmas-Roller-Disco-Rollerize-Hazlemere-20th-December-1.jpg
END:VEVENT
BEGIN:VEVENT
DTSTART;TZID=Europe/London:20251220T153000
DTEND;TZID=Europe/London:20251220T170000
DTSTAMP:20260420T124140
CREATED:20251113T110938Z
LAST-MODIFIED:20251222T111123Z
UID:1081-1766244600-1766250000@shop.rollerize.co.uk
SUMMARY:Xmas Roller Disco Session 2
DESCRIPTION:Celebrate the most wonderful time of the year on wheels at our Christmas Roller Disco! Enjoy a fun-filled festive skating experience with great music\, dazzling lights\, and plenty of holiday cheer. \nCome dressed in your best Christmas jumper or festive outfit and skate along to all your favourite seasonal hits. Perfect for families\, friends\, and skaters of all ages.
URL:https://shop.rollerize.co.uk/event/xmas-roller-disco-session-2/
LOCATION:Hazlemere Youth Centre\, Hazlemere Youth Centre\, High Wycombe\, Buckinghamshire\, HP15 7UB\, United Kingdom
CATEGORIES:December 2025,Public Roller Disco
ATTACH;FMTTYPE=image/jpeg:https://shop.rollerize.co.uk/wp-content/uploads/2025/11/Xmas-Roller-Disco-Rollerize-Hazlemere-20th-December-1.jpg
END:VEVENT
END:VCALENDAR