BEGIN:VCALENDAR
VERSION:2.0
PRODID:-//Rollerize Shop - ECPv6.15.13//NONSGML v1.0//EN
CALSCALE:GREGORIAN
METHOD:PUBLISH
X-WR-CALNAME:Rollerize Shop
X-ORIGINAL-URL:https://shop.rollerize.co.uk
X-WR-CALDESC:Events for Rollerize Shop
REFRESH-INTERVAL;VALUE=DURATION:PT1H
X-Robots-Tag:noindex
X-PUBLISHED-TTL:PT1H
BEGIN:VTIMEZONE
TZID:Europe/London
BEGIN:DAYLIGHT
TZOFFSETFROM:+0000
TZOFFSETTO:+0100
TZNAME:BST
DTSTART:20240331T010000
END:DAYLIGHT
BEGIN:STANDARD
TZOFFSETFROM:+0100
TZOFFSETTO:+0000
TZNAME:GMT
DTSTART:20241027T010000
END:STANDARD
BEGIN:DAYLIGHT
TZOFFSETFROM:+0000
TZOFFSETTO:+0100
TZNAME:BST
DTSTART:20250330T010000
END:DAYLIGHT
BEGIN:STANDARD
TZOFFSETFROM:+0100
TZOFFSETTO:+0000
TZNAME:GMT
DTSTART:20251026T010000
END:STANDARD
BEGIN:DAYLIGHT
TZOFFSETFROM:+0000
TZOFFSETTO:+0100
TZNAME:BST
DTSTART:20260329T010000
END:DAYLIGHT
BEGIN:STANDARD
TZOFFSETFROM:+0100
TZOFFSETTO:+0000
TZNAME:GMT
DTSTART:20261025T010000
END:STANDARD
END:VTIMEZONE
BEGIN:VEVENT
DTSTART;TZID=Europe/London:20250621T130000
DTEND;TZID=Europe/London:20250621T143000
DTSTAMP:20260420T223005
CREATED:20250430T093635Z
LAST-MODIFIED:20250430T094214Z
UID:825-1750510800-1750516200@shop.rollerize.co.uk
SUMMARY:UV & Laser Roller Disco Session 1
DESCRIPTION:Throw on your brightest neon\, charge up your glow\, and get ready to light up the rink! Join us for a UV & Laser Roller Disco bursting with colour\, energy\, and non-stop fun under the lights. It’s time to shine\, skate\, and dance the day away in a sea of glow sticks and laser beams!
URL:https://shop.rollerize.co.uk/event/uv-laser-roller-disco-session-1/
LOCATION:Hazlemere Youth Centre\, Hazlemere Youth Centre\, High Wycombe\, Buckinghamshire\, HP15 7UB\, United Kingdom
CATEGORIES:Public Roller Disco
ATTACH;FMTTYPE=image/jpeg:https://shop.rollerize.co.uk/wp-content/uploads/2025/04/UV-LASER_Flyer.jpg
END:VEVENT
BEGIN:VEVENT
DTSTART;TZID=Europe/London:20250621T153000
DTEND;TZID=Europe/London:20250621T170000
DTSTAMP:20260420T223005
CREATED:20250430T094132Z
LAST-MODIFIED:20250430T094132Z
UID:834-1750519800-1750525200@shop.rollerize.co.uk
SUMMARY:UV & Laser Roller Disco Session 2
DESCRIPTION:Throw on your brightest neon\, charge up your glow\, and get ready to light up the rink! Join us for a UV & Laser Roller Disco bursting with colour\, energy\, and non-stop fun under the lights. It’s time to shine\, skate\, and dance the day away in a sea of glow sticks and laser beams!
URL:https://shop.rollerize.co.uk/event/uv-laser-roller-disco-session-2/
LOCATION:Hazlemere Youth Centre\, Hazlemere Youth Centre\, High Wycombe\, Buckinghamshire\, HP15 7UB\, United Kingdom
CATEGORIES:Public Roller Disco
ATTACH;FMTTYPE=image/jpeg:https://shop.rollerize.co.uk/wp-content/uploads/2025/04/UV-LASER_Flyer.jpg
END:VEVENT
END:VCALENDAR