BEGIN:VCALENDAR
VERSION:2.0
PRODID:-//Rollerize Shop - ECPv6.15.13//NONSGML v1.0//EN
CALSCALE:GREGORIAN
METHOD:PUBLISH
X-ORIGINAL-URL:https://shop.rollerize.co.uk
X-WR-CALDESC:Events for Rollerize Shop
REFRESH-INTERVAL;VALUE=DURATION:PT1H
X-Robots-Tag:noindex
X-PUBLISHED-TTL:PT1H
BEGIN:VTIMEZONE
TZID:Europe/London
BEGIN:DAYLIGHT
TZOFFSETFROM:+0000
TZOFFSETTO:+0100
TZNAME:BST
DTSTART:20250330T010000
END:DAYLIGHT
BEGIN:STANDARD
TZOFFSETFROM:+0100
TZOFFSETTO:+0000
TZNAME:GMT
DTSTART:20251026T010000
END:STANDARD
BEGIN:DAYLIGHT
TZOFFSETFROM:+0000
TZOFFSETTO:+0100
TZNAME:BST
DTSTART:20260329T010000
END:DAYLIGHT
BEGIN:STANDARD
TZOFFSETFROM:+0100
TZOFFSETTO:+0000
TZNAME:GMT
DTSTART:20261025T010000
END:STANDARD
BEGIN:DAYLIGHT
TZOFFSETFROM:+0000
TZOFFSETTO:+0100
TZNAME:BST
DTSTART:20270328T010000
END:DAYLIGHT
BEGIN:STANDARD
TZOFFSETFROM:+0100
TZOFFSETTO:+0000
TZNAME:GMT
DTSTART:20271031T010000
END:STANDARD
END:VTIMEZONE
BEGIN:VEVENT
DTSTART;TZID=Europe/London:20260328T153000
DTEND;TZID=Europe/London:20260328T170000
DTSTAMP:20260421T021854
CREATED:20260313T143417Z
LAST-MODIFIED:20260313T144035Z
UID:1672-1774711800-1774717200@shop.rollerize.co.uk
SUMMARY:Easter Roller Disco Session 2
DESCRIPTION:Celebrate Easter on wheels at our Easter Roller Disco on Saturday 28th March at Hazlemere Youth Centre. Join Rollerize for a fun-filled roller skating event perfect for families\, children and skaters of all abilities. \nExpect a fantastic mix of music\, colourful lighting and plenty of Easter fun as the hall transforms into a lively roller disco. Whether you’re a confident skater or stepping onto skates for the first time\, our sessions are designed so everyone can join in and enjoy the experience. \nThis family-friendly roller disco in Hazlemere is the perfect way to spend time together\, get active and enjoy something a little different this Easter. \nCome along in your best Easter-themed outfits – think bunny ears\, pastel colours and spring vibes – and enjoy a brilliant evening of skating\, music and fun with the Rollerize community.
URL:https://shop.rollerize.co.uk/event/easter-roller-disco-session-2-2/
LOCATION:Hazlemere Youth Centre\, Hazlemere Youth Centre\, High Wycombe\, Buckinghamshire\, HP15 7UB\, United Kingdom
CATEGORIES:March 2026,Public Roller Disco
ATTACH;FMTTYPE=image/jpeg:https://shop.rollerize.co.uk/wp-content/uploads/2026/03/easter-ROLLERIZE.jpg
END:VEVENT
BEGIN:VEVENT
DTSTART;TZID=Europe/London:20260425T130000
DTEND;TZID=Europe/London:20260425T153000
DTSTAMP:20260421T021854
CREATED:20260413T182252Z
LAST-MODIFIED:20260413T182252Z
UID:1763-1777122000-1777131000@shop.rollerize.co.uk
SUMMARY:RollerRave Session 1
DESCRIPTION:After popular demand it’s back!! Get ready to turn up the energy at our RollerRave Roller Disco\, a high-impact roller disco packed with big beats\, colourful lighting\, and non-stop skating fun. \nJoin us on Saturday 25th April for an electrifying roller disco experience designed for kids\, families\, and skaters of all abilities. Expect a lively atmosphere\, upbeat music\, and a buzzing rink that brings serious party vibes to the wheels. \nWhether you’re skating for the first time or you’re already confident on wheels\, RollerRave is all about letting loose\, having fun\, and enjoying the music together. Fancy dress and bright outfits are welcome but not required\,  just bring your energy and get ready to roll. \nSkate hire is available\, and hot food and refreshments will be on offer from the Hazlemere Youth Centre café\, making this a brilliant day out for the whole family. \nOur themed roller discos are very popular\, so early booking is strongly recommended.
URL:https://shop.rollerize.co.uk/event/rollerrave-session-1/
LOCATION:Hazlemere Youth Centre\, Hazlemere Youth Centre\, High Wycombe\, Buckinghamshire\, HP15 7UB\, United Kingdom
CATEGORIES:Public Roller Disco
ATTACH;FMTTYPE=image/jpeg:https://shop.rollerize.co.uk/wp-content/uploads/2026/04/ROLLERRAVE-FLYER-APR.jpg
END:VEVENT
BEGIN:VEVENT
DTSTART;TZID=Europe/London:20260425T153000
DTEND;TZID=Europe/London:20260425T170000
DTSTAMP:20260421T021854
CREATED:20260413T182723Z
LAST-MODIFIED:20260413T182723Z
UID:1770-1777131000-1777136400@shop.rollerize.co.uk
SUMMARY:RollerRave Session 2
DESCRIPTION:After popular demand it’s back!! Get ready to turn up the energy at our RollerRave Roller Disco\, a high-impact roller disco packed with big beats\, colourful lighting\, and non-stop skating fun. \nJoin us on Saturday 25th April for an electrifying roller disco experience designed for kids\, families\, and skaters of all abilities. Expect a lively atmosphere\, upbeat music\, and a buzzing rink that brings serious party vibes to the wheels. \nWhether you’re skating for the first time or you’re already confident on wheels\, RollerRave is all about letting loose\, having fun\, and enjoying the music together. Fancy dress and bright outfits are welcome but not required\,  just bring your energy and get ready to roll. \nSkate hire is available\, and hot food and refreshments will be on offer from the Hazlemere Youth Centre café\, making this a brilliant day out for the whole family. \nOur themed roller discos are very popular\, so early booking is strongly recommended.
URL:https://shop.rollerize.co.uk/event/rollerrave-session-2/
LOCATION:Hazlemere Youth Centre\, Hazlemere Youth Centre\, High Wycombe\, Buckinghamshire\, HP15 7UB\, United Kingdom
ATTACH;FMTTYPE=image/jpeg:https://shop.rollerize.co.uk/wp-content/uploads/2026/04/ROLLERRAVE-FLYER-APR.jpg
END:VEVENT
END:VCALENDAR