BEGIN:VCALENDAR
VERSION:2.0
PRODID:-//Rollerize Shop - ECPv6.15.13//NONSGML v1.0//EN
CALSCALE:GREGORIAN
METHOD:PUBLISH
X-ORIGINAL-URL:https://shop.rollerize.co.uk
X-WR-CALDESC:Events for Rollerize Shop
REFRESH-INTERVAL;VALUE=DURATION:PT1H
X-Robots-Tag:noindex
X-PUBLISHED-TTL:PT1H
BEGIN:VTIMEZONE
TZID:Europe/London
BEGIN:DAYLIGHT
TZOFFSETFROM:+0000
TZOFFSETTO:+0100
TZNAME:BST
DTSTART:20250330T010000
END:DAYLIGHT
BEGIN:STANDARD
TZOFFSETFROM:+0100
TZOFFSETTO:+0000
TZNAME:GMT
DTSTART:20251026T010000
END:STANDARD
BEGIN:DAYLIGHT
TZOFFSETFROM:+0000
TZOFFSETTO:+0100
TZNAME:BST
DTSTART:20260329T010000
END:DAYLIGHT
BEGIN:STANDARD
TZOFFSETFROM:+0100
TZOFFSETTO:+0000
TZNAME:GMT
DTSTART:20261025T010000
END:STANDARD
BEGIN:DAYLIGHT
TZOFFSETFROM:+0000
TZOFFSETTO:+0100
TZNAME:BST
DTSTART:20270328T010000
END:DAYLIGHT
BEGIN:STANDARD
TZOFFSETFROM:+0100
TZOFFSETTO:+0000
TZNAME:GMT
DTSTART:20271031T010000
END:STANDARD
END:VTIMEZONE
BEGIN:VEVENT
DTSTART;TZID=Europe/London:20260131T130000
DTEND;TZID=Europe/London:20260131T143000
DTSTAMP:20260420T110704
CREATED:20260105T075549Z
LAST-MODIFIED:20260105T080317Z
UID:1430-1769864400-1769869800@shop.rollerize.co.uk
SUMMARY:Rewind Roller Disco Session 1
DESCRIPTION:Get ready to lace up and roll back in time at our Rewind Roller Disco\, bringing together the very best of the 70s\, 80s\, and 90s for one unforgettable skating session. \nJoin us on Saturday 31st January 2026 at Hazlemere Youth Centre for a feel-good roller disco packed with classic hits\, colourful lights\, and an atmosphere that’s perfect for all ages. From disco anthems and 80s classics to iconic 90s bangers\, the music will have everyone singing along while skating around the rink. \nWhether you grew up with these decades or you’re introducing the kids to some legendary tunes\, this is a brilliant family-friendly day out full of energy\, nostalgia\, and fun. Fancy dress and retro outfits are very welcome\, but not essential. \nSkate hire is available\, and hot food and refreshments will be on offer from the Hazlemere Youth Centre café to keep everyone fuelled.
URL:https://shop.rollerize.co.uk/event/rewind-roller-disco-session-1/
LOCATION:Hazlemere Youth Centre\, Hazlemere Youth Centre\, High Wycombe\, Buckinghamshire\, HP15 7UB\, United Kingdom
CATEGORIES:January 2026,Public Roller Disco
ATTACH;FMTTYPE=image/jpeg:https://shop.rollerize.co.uk/wp-content/uploads/2026/01/Rewind-Roller-Disco-31st-January-Hazlemere.jpeg
END:VEVENT
BEGIN:VEVENT
DTSTART;TZID=Europe/London:20260131T153000
DTEND;TZID=Europe/London:20260131T170000
DTSTAMP:20260420T110704
CREATED:20260105T080035Z
LAST-MODIFIED:20260131T085544Z
UID:1436-1769873400-1769878800@shop.rollerize.co.uk
SUMMARY:Rewind Roller Disco Session 2
DESCRIPTION:Get ready to lace up and roll back in time at our Rewind Roller Disco\, bringing together the very best of the 70s\, 80s\, and 90s for one unforgettable skating session. \nJoin us on Saturday 31st January 2026 at Hazlemere Youth Centre for a feel-good roller disco packed with classic hits\, colourful lights\, and an atmosphere that’s perfect for all ages. From disco anthems and 80s classics to iconic 90s bangers\, the music will have everyone singing along while skating around the rink. \nWhether you grew up with these decades or you’re introducing the kids to some legendary tunes\, this is a brilliant family-friendly day out full of energy\, nostalgia\, and fun. Fancy dress and retro outfits are very welcome\, but not essential. \nSkate hire is available\, and hot food and refreshments will be on offer from the Hazlemere Youth Centre café to keep everyone fuelled.
URL:https://shop.rollerize.co.uk/event/rewind-roller-disco-session-2/
LOCATION:Hazlemere Youth Centre\, Hazlemere Youth Centre\, High Wycombe\, Buckinghamshire\, HP15 7UB\, United Kingdom
CATEGORIES:January 2026,Public Roller Disco
ATTACH;FMTTYPE=image/jpeg:https://shop.rollerize.co.uk/wp-content/uploads/2026/01/Rewind-Roller-Disco-31st-January-Hazlemere-SOld-Out.jpg
END:VEVENT
END:VCALENDAR