BEGIN:VCALENDAR
VERSION:2.0
PRODID:-//Rollerize Shop - ECPv6.15.13//NONSGML v1.0//EN
CALSCALE:GREGORIAN
METHOD:PUBLISH
X-WR-CALNAME:Rollerize Shop
X-ORIGINAL-URL:https://shop.rollerize.co.uk
X-WR-CALDESC:Events for Rollerize Shop
REFRESH-INTERVAL;VALUE=DURATION:PT1H
X-Robots-Tag:noindex
X-PUBLISHED-TTL:PT1H
BEGIN:VTIMEZONE
TZID:Europe/London
BEGIN:DAYLIGHT
TZOFFSETFROM:+0000
TZOFFSETTO:+0100
TZNAME:BST
DTSTART:20240331T010000
END:DAYLIGHT
BEGIN:STANDARD
TZOFFSETFROM:+0100
TZOFFSETTO:+0000
TZNAME:GMT
DTSTART:20241027T010000
END:STANDARD
BEGIN:DAYLIGHT
TZOFFSETFROM:+0000
TZOFFSETTO:+0100
TZNAME:BST
DTSTART:20250330T010000
END:DAYLIGHT
BEGIN:STANDARD
TZOFFSETFROM:+0100
TZOFFSETTO:+0000
TZNAME:GMT
DTSTART:20251026T010000
END:STANDARD
BEGIN:DAYLIGHT
TZOFFSETFROM:+0000
TZOFFSETTO:+0100
TZNAME:BST
DTSTART:20260329T010000
END:DAYLIGHT
BEGIN:STANDARD
TZOFFSETFROM:+0100
TZOFFSETTO:+0000
TZNAME:GMT
DTSTART:20261025T010000
END:STANDARD
END:VTIMEZONE
BEGIN:VEVENT
DTSTART;TZID=Europe/London:20251025T130000
DTEND;TZID=Europe/London:20251025T143000
DTSTAMP:20260420T171747
CREATED:20251006T120846Z
LAST-MODIFIED:20251006T121011Z
UID:959-1761397200-1761402600@shop.rollerize.co.uk
SUMMARY:Halloween Roller Disco Session 1
DESCRIPTION:Join us for our Halloween roller disco at the Hazlemere youth centre! Gets your fancy dress out and get your skates on for a family fun time! Prizes for the best fancy dress on the day!
URL:https://shop.rollerize.co.uk/event/halloween-roller-disco-session-1/
LOCATION:Hazlemere Youth Centre\, Hazlemere Youth Centre\, High Wycombe\, Buckinghamshire\, HP15 7UB\, United Kingdom
CATEGORIES:Public Roller Disco
ATTACH;FMTTYPE=image/jpeg:https://shop.rollerize.co.uk/wp-content/uploads/2025/10/Halloween-Flyer-Vol2.jpg
END:VEVENT
BEGIN:VEVENT
DTSTART;TZID=Europe/London:20251025T151500
DTEND;TZID=Europe/London:20251025T164500
DTSTAMP:20260420T171747
CREATED:20251006T121356Z
LAST-MODIFIED:20251006T121356Z
UID:967-1761405300-1761410700@shop.rollerize.co.uk
SUMMARY:Halloween Roller Disco Session 2
DESCRIPTION:Join us for our Halloween roller disco at the Hazlemere youth centre! Gets your fancy dress out and get your skates on for a family fun time! Prizes for the best fancy dress on the day!
URL:https://shop.rollerize.co.uk/event/halloween-roller-disco-session-2/
LOCATION:Hazlemere Youth Centre\, Hazlemere Youth Centre\, High Wycombe\, Buckinghamshire\, HP15 7UB\, United Kingdom
CATEGORIES:Public Roller Disco
ATTACH;FMTTYPE=image/jpeg:https://shop.rollerize.co.uk/wp-content/uploads/2025/10/Halloween-Flyer-Vol2.jpg
END:VEVENT
END:VCALENDAR